BEGIN:VCALENDAR
METHOD:PUBLISH
VERSION:2.0
PRODID:-//hacksw/handcal//NONSGML v1.0//EN
BEGIN:VEVENT
DTSTAMP:20260429T110000
DTSTART:20260429T110000
DTEND:20260429T111500
SUMMARY:Inspection
LOCATION:46-48 Princes Highway Kogarah NSW 2217
DESCRIPTION:
UID:ed4b4e2f-1b44-43d6-99cd-e3408af9a9c3@enlivenai.com.au
END:VEVENT
END:VCALENDAR
