BEGIN:VCALENDAR
METHOD:PUBLISH
VERSION:2.0
PRODID:-//hacksw/handcal//NONSGML v1.0//EN
BEGIN:VEVENT
DTSTAMP:20260422T164500
DTSTART:20260422T164500
DTEND:20260422T170000
SUMMARY:Inspection
LOCATION:1 Mann Street Seacliff Park SA 5049
DESCRIPTION:
UID:5c58dfc0-6420-4f28-a259-967872de1bd1@enlivenai.com.au
END:VEVENT
END:VCALENDAR
