BEGIN:VCALENDAR
METHOD:PUBLISH
VERSION:2.0
PRODID:-//hacksw/handcal//NONSGML v1.0//EN
BEGIN:VEVENT
DTSTAMP:20260424T154500
DTSTART:20260424T154500
DTEND:20260424T160000
SUMMARY:Inspection
LOCATION:2/21 Chandos Street Ashfield NSW 2131
DESCRIPTION:
UID:99105193-7f16-40b9-a31d-1f9f94ddf977@enlivenai.com.au
END:VEVENT
END:VCALENDAR
