BEGIN:VCALENDAR
METHOD:PUBLISH
VERSION:2.0
PRODID:-//hacksw/handcal//NONSGML v1.0//EN
BEGIN:VEVENT
DTSTAMP:20260422T151500
DTSTART:20260422T151500
DTEND:20260422T153000
SUMMARY:Inspection
LOCATION:4/559 Punt Road South Yarra VIC 3141
DESCRIPTION:
UID:104167a1-9afe-4e5c-8ce3-d7dff00801a7@enlivenai.com.au
END:VEVENT
END:VCALENDAR
