BEGIN:VCALENDAR
METHOD:PUBLISH
VERSION:2.0
PRODID:-//hacksw/handcal//NONSGML v1.0//EN
BEGIN:VEVENT
DTSTAMP:20260424T094500
DTSTART:20260424T094500
DTEND:20260424T100000
SUMMARY:Inspection
LOCATION:20/107-115 Pacific Highway Hornsby NSW 2077
DESCRIPTION:
UID:2c95b604-38fb-45bc-8c47-5b582095d97e@enlivenai.com.au
END:VEVENT
END:VCALENDAR
