BEGIN:VCALENDAR
METHOD:PUBLISH
VERSION:2.0
PRODID:-//hacksw/handcal//NONSGML v1.0//EN
BEGIN:VEVENT
DTSTAMP:20260425T103000
DTSTART:20260425T103000
DTEND:20260425T110000
SUMMARY:Inspection
LOCATION:46A Janet Road Safety Bay WA 6169
DESCRIPTION:
UID:a32ead16-a8e6-4419-a245-ab3f3ebd21a2@enlivenai.com.au
END:VEVENT
END:VCALENDAR
