BEGIN:VCALENDAR
METHOD:PUBLISH
VERSION:2.0
PRODID:-//hacksw/handcal//NONSGML v1.0//EN
BEGIN:VEVENT
DTSTAMP:20260502T140000
DTSTART:20260502T140000
DTEND:20260502T143000
SUMMARY:Inspection
LOCATION:50 Little John Road Warranwood VIC 3134
DESCRIPTION:
UID:b075ceab-20eb-4c44-a120-1fd0cb9f4f01@enlivenai.com.au
END:VEVENT
END:VCALENDAR
