BEGIN:VCALENDAR
METHOD:PUBLISH
VERSION:2.0
PRODID:-//hacksw/handcal//NONSGML v1.0//EN
BEGIN:VEVENT
DTSTAMP:20260425T134000
DTSTART:20260425T134000
DTEND:20260425T140000
SUMMARY:Inspection
LOCATION:11 River Park Court Werribee VIC 3030
DESCRIPTION:
UID:15f328d6-7995-4757-8e7d-6b4b82009b0a@enlivenai.com.au
END:VEVENT
END:VCALENDAR
