BEGIN:VCALENDAR
METHOD:PUBLISH
VERSION:2.0
PRODID:-//hacksw/handcal//NONSGML v1.0//EN
BEGIN:VEVENT
DTSTAMP:20260428T103000
DTSTART:20260428T103000
DTEND:20260428T104500
SUMMARY:Inspection
LOCATION:301/1A Orinoco Street Pymble NSW 2073
DESCRIPTION:
UID:a1da09ea-d8d1-4e62-a3d3-dfa0972fe236@enlivenai.com.au
END:VEVENT
END:VCALENDAR
