BEGIN:VCALENDAR
METHOD:PUBLISH
VERSION:2.0
PRODID:-//hacksw/handcal//NONSGML v1.0//EN
BEGIN:VEVENT
DTSTAMP:20260422T111500
DTSTART:20260422T111500
DTEND:20260422T113000
SUMMARY:Inspection
LOCATION:12 Hutcheson Avenue Rankin Park NSW 2287
DESCRIPTION:
UID:f3e2e249-b440-4cc8-ae5b-0e1f5ac50eb6@enlivenai.com.au
END:VEVENT
END:VCALENDAR
