BEGIN:VCALENDAR
METHOD:PUBLISH
VERSION:2.0
PRODID:-//hacksw/handcal//NONSGML v1.0//EN
BEGIN:VEVENT
DTSTAMP:20260426T100000
DTSTART:20260426T100000
DTEND:20260426T103000
SUMMARY:Inspection
LOCATION:4/23 Osborne Avenue Glen Iris VIC 3146
DESCRIPTION:
UID:a36832c3-6bef-4820-b171-4a749cd93e4b@enlivenai.com.au
END:VEVENT
END:VCALENDAR
