BEGIN:VCALENDAR
METHOD:PUBLISH
VERSION:2.0
PRODID:-//hacksw/handcal//NONSGML v1.0//EN
BEGIN:VEVENT
DTSTAMP:20260423T140000
DTSTART:20260423T140000
DTEND:20260423T143000
SUMMARY:Inspection
LOCATION:4/23 Osborne Avenue Glen Iris VIC 3146
DESCRIPTION:
UID:3a00250d-0582-472e-8519-1f9d7596b6de@enlivenai.com.au
END:VEVENT
END:VCALENDAR
