BEGIN:VCALENDAR
METHOD:PUBLISH
VERSION:2.0
PRODID:-//hacksw/handcal//NONSGML v1.0//EN
BEGIN:VEVENT
DTSTAMP:20260424T141000
DTSTART:20260424T141000
DTEND:20260424T142500
SUMMARY:Inspection
LOCATION:4/50 Fewster Road Hampton East VIC 3188
DESCRIPTION:
UID:d50f5cf3-c182-482f-b52c-2d3126633c7c@enlivenai.com.au
END:VEVENT
END:VCALENDAR
