BEGIN:VCALENDAR
METHOD:PUBLISH
VERSION:2.0
PRODID:-//hacksw/handcal//NONSGML v1.0//EN
BEGIN:VEVENT
DTSTAMP:20260502T130000
DTSTART:20260502T130000
DTEND:20260502T133000
SUMMARY:Inspection
LOCATION:74 Stables Circuit Doncaster VIC 3108
DESCRIPTION:
UID:9493b095-e85d-4e42-99d5-362197109810@enlivenai.com.au
END:VEVENT
END:VCALENDAR
