BEGIN:VCALENDAR
METHOD:PUBLISH
VERSION:2.0
PRODID:-//hacksw/handcal//NONSGML v1.0//EN
BEGIN:VEVENT
DTSTAMP:20260423T120000
DTSTART:20260423T120000
DTEND:20260423T123000
SUMMARY:Inspection
LOCATION:74 Stables Circuit Doncaster VIC 3108
DESCRIPTION:
UID:537200b6-b0e2-4376-9df1-a605091870dd@enlivenai.com.au
END:VEVENT
END:VCALENDAR
