BEGIN:VCALENDAR
METHOD:PUBLISH
VERSION:2.0
PRODID:-//hacksw/handcal//NONSGML v1.0//EN
BEGIN:VEVENT
DTSTAMP:20260428T113000
DTSTART:20260428T113000
DTEND:20260428T120000
SUMMARY:Inspection
LOCATION:56 Hart Crescent Bells Creek QLD 4551
DESCRIPTION:
UID:66b3aee9-e00c-4883-8596-88f85c772def@enlivenai.com.au
END:VEVENT
END:VCALENDAR
