BEGIN:VCALENDAR
METHOD:PUBLISH
VERSION:2.0
PRODID:-//hacksw/handcal//NONSGML v1.0//EN
BEGIN:VEVENT
DTSTAMP:20260427T165000
DTSTART:20260427T165000
DTEND:20260427T170000
SUMMARY:Inspection
LOCATION:17 Bass Street McCrae VIC 3938
DESCRIPTION:
UID:c2bea568-c165-4ec0-b354-9dd3573ed17f@enlivenai.com.au
END:VEVENT
END:VCALENDAR
