BEGIN:VCALENDAR
METHOD:PUBLISH
VERSION:2.0
PRODID:-//hacksw/handcal//NONSGML v1.0//EN
BEGIN:VEVENT
DTSTAMP:20260423T145000
DTSTART:20260423T145000
DTEND:20260423T150500
SUMMARY:Inspection
LOCATION:6/25 Gladstone Street Moonee Ponds VIC 3039
DESCRIPTION:
UID:3ccaa1b2-ad5c-4235-8873-bff46249a5e3@enlivenai.com.au
END:VEVENT
END:VCALENDAR
