BEGIN:VCALENDAR
METHOD:PUBLISH
VERSION:2.0
PRODID:-//hacksw/handcal//NONSGML v1.0//EN
BEGIN:VEVENT
DTSTAMP:20260425T130000
DTSTART:20260425T130000
DTEND:20260425T133000
SUMMARY:Inspection
LOCATION:15 Aurifera Parkway Madora Bay WA 6210
DESCRIPTION:
UID:6c8904a9-64af-4932-b7ae-ddc8dcedd910@enlivenai.com.au
END:VEVENT
END:VCALENDAR
