BEGIN:VCALENDAR
METHOD:PUBLISH
VERSION:2.0
PRODID:-//hacksw/handcal//NONSGML v1.0//EN
BEGIN:VEVENT
DTSTAMP:20260501T163000
DTSTART:20260501T163000
DTEND:20260501T164500
SUMMARY:Inspection
LOCATION:6 Tavistock Crescent Murrumba Downs QLD 4503
DESCRIPTION:
UID:299375c7-6475-4077-82d6-71baa935d6cc@enlivenai.com.au
END:VEVENT
END:VCALENDAR
