BEGIN:VCALENDAR
METHOD:PUBLISH
VERSION:2.0
PRODID:-//hacksw/handcal//NONSGML v1.0//EN
BEGIN:VEVENT
DTSTAMP:20260521T110000
DTSTART:20260521T110000
DTEND:20260521T113000
SUMMARY:Inspection
LOCATION:1/22 Connell Street Hawthorn VIC 3122
DESCRIPTION:
UID:27d8d1d8-e326-4014-a0b6-b61595ba997c@enlivenai.com.au
END:VEVENT
END:VCALENDAR
