BEGIN:VCALENDAR
METHOD:PUBLISH
VERSION:2.0
PRODID:-//hacksw/handcal//NONSGML v1.0//EN
BEGIN:VEVENT
DTSTAMP:20260507T133000
DTSTART:20260507T133000
DTEND:20260507T140000
SUMMARY:Inspection
LOCATION:1/22 Connell Street Hawthorn VIC 3122
DESCRIPTION:
UID:ac2e4649-8bb1-49e0-a6ab-f2fff774888f@enlivenai.com.au
END:VEVENT
END:VCALENDAR
