BEGIN:VCALENDAR
METHOD:PUBLISH
VERSION:2.0
PRODID:-//hacksw/handcal//NONSGML v1.0//EN
BEGIN:VEVENT
DTSTAMP:20260422T120000
DTSTART:20260422T120000
DTEND:20260422T122000
SUMMARY:Inspection
LOCATION:10104/5 Sam Sing  Street Waterloo NSW 2017
DESCRIPTION:
UID:2525718c-b16a-49a8-ab40-a43020185682@enlivenai.com.au
END:VEVENT
END:VCALENDAR
