BEGIN:VCALENDAR
METHOD:PUBLISH
VERSION:2.0
PRODID:-//hacksw/handcal//NONSGML v1.0//EN
BEGIN:VEVENT
DTSTAMP:20260425T160000
DTSTART:20260425T160000
DTEND:20260425T161500
SUMMARY:Inspection
LOCATION:4/22B The Esplanade St Kilda VIC 3182
DESCRIPTION:
UID:4aee01fb-c49f-462e-8508-0aeee0aad899@enlivenai.com.au
END:VEVENT
END:VCALENDAR
