BEGIN:VCALENDAR
METHOD:PUBLISH
VERSION:2.0
PRODID:-//hacksw/handcal//NONSGML v1.0//EN
BEGIN:VEVENT
DTSTAMP:20260422T130000
DTSTART:20260422T130000
DTEND:20260422T131500
SUMMARY:Inspection
LOCATION:4/22B The Esplanade St Kilda VIC 3182
DESCRIPTION:
UID:265ac58b-ed90-4a65-995a-9da1a6e91150@enlivenai.com.au
END:VEVENT
END:VCALENDAR
