BEGIN:VCALENDAR
METHOD:PUBLISH
VERSION:2.0
PRODID:-//hacksw/handcal//NONSGML v1.0//EN
BEGIN:VEVENT
DTSTAMP:20260424T150000
DTSTART:20260424T150000
DTEND:20260424T153000
SUMMARY:Inspection
LOCATION:3 Owanda Crescent Killcare NSW 2257
DESCRIPTION:
UID:1862d8db-6146-4a23-b4f8-58f1d8e28a54@enlivenai.com.au
END:VEVENT
END:VCALENDAR
