BEGIN:VCALENDAR
METHOD:PUBLISH
VERSION:2.0
PRODID:-//hacksw/handcal//NONSGML v1.0//EN
BEGIN:VEVENT
DTSTAMP:20260425T134500
DTSTART:20260425T134500
DTEND:20260425T141500
SUMMARY:Inspection
LOCATION:15A Linnet  Street Altona VIC 3018
DESCRIPTION:
UID:f27572fb-33a5-45a0-bea3-0103e963a476@enlivenai.com.au
END:VEVENT
END:VCALENDAR
