BEGIN:VCALENDAR
METHOD:PUBLISH
VERSION:2.0
PRODID:-//hacksw/handcal//NONSGML v1.0//EN
BEGIN:VEVENT
DTSTAMP:20260425T113000
DTSTART:20260425T113000
DTEND:20260425T121500
SUMMARY:Inspection
LOCATION:23 Moorgate Street Macgregor QLD 4109
DESCRIPTION:
UID:b6c3ca53-38c2-4485-9d55-9c002a512737@enlivenai.com.au
END:VEVENT
END:VCALENDAR
