BEGIN:VCALENDAR
METHOD:PUBLISH
VERSION:2.0
PRODID:-//hacksw/handcal//NONSGML v1.0//EN
BEGIN:VEVENT
DTSTAMP:20260502T104000
DTSTART:20260502T104000
DTEND:20260502T110000
SUMMARY:Inspection
LOCATION:39 Jervois Street St Kilda East VIC 3183
DESCRIPTION:
UID:6c85c0d2-266e-44cc-af03-e03b21cd47c6@enlivenai.com.au
END:VEVENT
END:VCALENDAR
