BEGIN:VCALENDAR
METHOD:PUBLISH
VERSION:2.0
PRODID:-//hacksw/handcal//NONSGML v1.0//EN
BEGIN:VEVENT
DTSTAMP:20260426T101500
DTSTART:20260426T101500
DTEND:20260426T104500
SUMMARY:Inspection
LOCATION:18 Wagstaffe  Avenue Wagstaffe NSW 2257
DESCRIPTION:
UID:3c4a8ed6-5e3b-48bc-95d4-76415140e9ab@enlivenai.com.au
END:VEVENT
END:VCALENDAR
