BEGIN:VCALENDAR
METHOD:PUBLISH
VERSION:2.0
PRODID:-//hacksw/handcal//NONSGML v1.0//EN
BEGIN:VEVENT
DTSTAMP:20260423T154500
DTSTART:20260423T154500
DTEND:20260423T160000
SUMMARY:Inspection
LOCATION:122/8 Garfield Street Richmond VIC 3121
DESCRIPTION:
UID:d1fe6e57-6b5e-41d7-8966-a057b1bc42f7@enlivenai.com.au
END:VEVENT
END:VCALENDAR
