BEGIN:VCALENDAR
METHOD:PUBLISH
VERSION:2.0
PRODID:-//hacksw/handcal//NONSGML v1.0//EN
BEGIN:VEVENT
DTSTAMP:20260426T143000
DTSTART:20260426T143000
DTEND:20260426T150000
SUMMARY:Inspection
LOCATION:2/31 Olympic Parade Dromana VIC 3936
DESCRIPTION:
UID:f5a53b0a-fbcf-4933-bb80-cbd470b09b54@enlivenai.com.au
END:VEVENT
END:VCALENDAR
