BEGIN:VCALENDAR
METHOD:PUBLISH
VERSION:2.0
PRODID:-//hacksw/handcal//NONSGML v1.0//EN
BEGIN:VEVENT
DTSTAMP:20260502T131500
DTSTART:20260502T131500
DTEND:20260502T134500
SUMMARY:Inspection
LOCATION:3/38 Northcote Road Armadale VIC 3143
DESCRIPTION:
UID:f16ab07a-ec6d-4734-a0d6-82fd608744d5@enlivenai.com.au
END:VEVENT
END:VCALENDAR
