BEGIN:VCALENDAR
METHOD:PUBLISH
VERSION:2.0
PRODID:-//hacksw/handcal//NONSGML v1.0//EN
BEGIN:VEVENT
DTSTAMP:20260429T120000
DTSTART:20260429T120000
DTEND:20260429T123000
SUMMARY:Inspection
LOCATION:3/38 Northcote Road Armadale VIC 3143
DESCRIPTION:
UID:9232b976-a505-4209-934b-a74fc8eb458c@enlivenai.com.au
END:VEVENT
END:VCALENDAR
