BEGIN:VCALENDAR
METHOD:PUBLISH
VERSION:2.0
PRODID:-//hacksw/handcal//NONSGML v1.0//EN
BEGIN:VEVENT
DTSTAMP:20260426T131500
DTSTART:20260426T131500
DTEND:20260426T134500
SUMMARY:Inspection
LOCATION:3/38 Northcote Road Armadale VIC 3143
DESCRIPTION:
UID:1baea10d-d5e1-4baf-844e-2faa6d4226d5@enlivenai.com.au
END:VEVENT
END:VCALENDAR
