BEGIN:VCALENDAR
METHOD:PUBLISH
VERSION:2.0
PRODID:-//hacksw/handcal//NONSGML v1.0//EN
BEGIN:VEVENT
DTSTAMP:20260423T161500
DTSTART:20260423T161500
DTEND:20260423T163000
SUMMARY:Inspection
LOCATION:2 Maddy Way Stanhope Gardens NSW 2768
DESCRIPTION:
UID:a6bbda71-6e81-412e-ad9b-d45ba991386c@enlivenai.com.au
END:VEVENT
END:VCALENDAR
