BEGIN:VCALENDAR
METHOD:PUBLISH
VERSION:2.0
PRODID:-//hacksw/handcal//NONSGML v1.0//EN
BEGIN:VEVENT
DTSTAMP:20260425T110000
DTSTART:20260425T110000
DTEND:20260425T113000
SUMMARY:Inspection
LOCATION:99 Second  Avenue Joslin SA 5070
DESCRIPTION:
UID:7970068f-88ee-479e-b4e4-8aba7690d1cf@enlivenai.com.au
END:VEVENT
END:VCALENDAR
