BEGIN:VCALENDAR
METHOD:PUBLISH
VERSION:2.0
PRODID:-//hacksw/handcal//NONSGML v1.0//EN
BEGIN:VEVENT
DTSTAMP:20260426T150000
DTSTART:20260426T150000
DTEND:20260426T153000
SUMMARY:Inspection
LOCATION:1/16 Normanby  Street Prahran VIC 3181
DESCRIPTION:
UID:1b18673c-a903-49c5-b814-638524269fe8@enlivenai.com.au
END:VEVENT
END:VCALENDAR
