BEGIN:VCALENDAR
METHOD:PUBLISH
VERSION:2.0
PRODID:-//hacksw/handcal//NONSGML v1.0//EN
BEGIN:VEVENT
DTSTAMP:20260502T124500
DTSTART:20260502T124500
DTEND:20260502T131500
SUMMARY:Inspection
LOCATION:6B Forest  Street Trentham VIC 3458
DESCRIPTION:
UID:e82aab06-dbf4-4ce7-8652-4ca894808df2@enlivenai.com.au
END:VEVENT
END:VCALENDAR
