BEGIN:VCALENDAR
METHOD:PUBLISH
VERSION:2.0
PRODID:-//hacksw/handcal//NONSGML v1.0//EN
BEGIN:VEVENT
DTSTAMP:20260425T140000
DTSTART:20260425T140000
DTEND:20260425T143000
SUMMARY:Inspection
LOCATION:8 Karuah Street Strathfield NSW 2135
DESCRIPTION:
UID:eef67322-c643-469a-a99e-5daae334fe4f@enlivenai.com.au
END:VEVENT
END:VCALENDAR
