BEGIN:VCALENDAR
METHOD:PUBLISH
VERSION:2.0
PRODID:-//hacksw/handcal//NONSGML v1.0//EN
BEGIN:VEVENT
DTSTAMP:20260421T123000
DTSTART:20260421T123000
DTEND:20260421T125000
SUMMARY:Inspection
LOCATION:2/36 Brighton Boulevard North Bondi NSW 2026
DESCRIPTION:
UID:fed379fc-56b0-4276-9c25-cad23432830f@enlivenai.com.au
END:VEVENT
END:VCALENDAR
