BEGIN:VCALENDAR
METHOD:PUBLISH
VERSION:2.0
PRODID:-//hacksw/handcal//NONSGML v1.0//EN
BEGIN:VEVENT
DTSTAMP:20260428T171500
DTSTART:20260428T171500
DTEND:20260428T174500
SUMMARY:Inspection
LOCATION:110 Prince Street Mornington VIC 3931
DESCRIPTION:
UID:e58973db-82df-46df-9177-9b6d70bab980@enlivenai.com.au
END:VEVENT
END:VCALENDAR
