BEGIN:VCALENDAR
METHOD:PUBLISH
VERSION:2.0
PRODID:-//hacksw/handcal//NONSGML v1.0//EN
BEGIN:VEVENT
DTSTAMP:20260423T130500
DTSTART:20260423T130500
DTEND:20260423T132500
SUMMARY:Inspection
LOCATION:88A Fitzroy  Street Surry Hills NSW 2010
DESCRIPTION:
UID:d29054e7-2721-4bc6-96c9-7ded9203642b@enlivenai.com.au
END:VEVENT
END:VCALENDAR
