BEGIN:VCALENDAR
METHOD:PUBLISH
VERSION:2.0
PRODID:-//hacksw/handcal//NONSGML v1.0//EN
BEGIN:VEVENT
DTSTAMP:20260422T130500
DTSTART:20260422T130500
DTEND:20260422T132500
SUMMARY:Inspection
LOCATION:88A Fitzroy  Street Surry Hills NSW 2010
DESCRIPTION:
UID:1d5768d8-0c52-4dd1-bf44-4e9128200e1f@enlivenai.com.au
END:VEVENT
END:VCALENDAR
