BEGIN:VCALENDAR
METHOD:PUBLISH
VERSION:2.0
PRODID:-//hacksw/handcal//NONSGML v1.0//EN
BEGIN:VEVENT
DTSTAMP:20260426T151500
DTSTART:20260426T151500
DTEND:20260426T154500
SUMMARY:Inspection
LOCATION:36 Waratah Street O'Connor ACT 2602
DESCRIPTION:
UID:b20fd25d-a4d0-464f-81e0-de7ce35cf945@enlivenai.com.au
END:VEVENT
END:VCALENDAR
