BEGIN:VCALENDAR
METHOD:PUBLISH
VERSION:2.0
PRODID:-//hacksw/handcal//NONSGML v1.0//EN
BEGIN:VEVENT
DTSTAMP:20260428T170000
DTSTART:20260428T170000
DTEND:20260428T173000
SUMMARY:Inspection
LOCATION:36 Waratah Street O'Connor ACT 2602
DESCRIPTION:
UID:8e51ec69-73ee-4a78-9c92-8b05303b2a25@enlivenai.com.au
END:VEVENT
END:VCALENDAR
