BEGIN:VCALENDAR
METHOD:PUBLISH
VERSION:2.0
PRODID:-//hacksw/handcal//NONSGML v1.0//EN
BEGIN:VEVENT
DTSTAMP:20260423T121500
DTSTART:20260423T121500
DTEND:20260423T124500
SUMMARY:Inspection
LOCATION:4/17 Irving  Avenue Prahran VIC 3181
DESCRIPTION:
UID:49ccf7d5-2ed3-4258-a469-b1149b80b8fc@enlivenai.com.au
END:VEVENT
END:VCALENDAR
