BEGIN:VCALENDAR
METHOD:PUBLISH
VERSION:2.0
PRODID:-//hacksw/handcal//NONSGML v1.0//EN
BEGIN:VEVENT
DTSTAMP:20260424T153000
DTSTART:20260424T153000
DTEND:20260424T154500
SUMMARY:Inspection
LOCATION:6/31 York Street St Kilda West VIC 3182
DESCRIPTION:
UID:9d74a526-20b8-4f85-9080-6dbd80e7fc1e@enlivenai.com.au
END:VEVENT
END:VCALENDAR
