BEGIN:VCALENDAR
METHOD:PUBLISH
VERSION:2.0
PRODID:-//hacksw/handcal//NONSGML v1.0//EN
BEGIN:VEVENT
DTSTAMP:20260516T113000
DTSTART:20260516T113000
DTEND:20260516T114500
SUMMARY:Inspection
LOCATION:501/3 Kings Cross Road Darlinghurst NSW 2010
DESCRIPTION:
UID:6e37e227-7dfc-462a-b7a9-273e7ba981bd@enlivenai.com.au
END:VEVENT
END:VCALENDAR
