BEGIN:VCALENDAR
METHOD:PUBLISH
VERSION:2.0
PRODID:-//hacksw/handcal//NONSGML v1.0//EN
BEGIN:VEVENT
DTSTAMP:20260509T113000
DTSTART:20260509T113000
DTEND:20260509T120000
SUMMARY:Inspection
LOCATION:501/3 Kings Cross Road Darlinghurst NSW 2010
DESCRIPTION:
UID:e249ef96-9e1a-4453-bf05-7835301e026e@enlivenai.com.au
END:VEVENT
END:VCALENDAR
